Workbook

Sheet Balanza
A1: ATLÁNTIDA VIDA, S.A., SEGUROS DE PERSONAS
A2: BALANCE DE COMPROBACIÓN CORRESPONDIENTE AL MES DE SEPTIEMBRE 2026
A3: VALORES EXPRESADOS EN DÓLARES DE LOS ESTADOS UNIDOS DE AMÉRICA
A4: Cuenta | B4: NombreCuenta | C4: SALDO_ANTERIOR | D4: DEBE | E4: HABER | F4: SALDO | G4: digitos
A5: 1 | B5: ACTIVO | C5: 17389789 | D5: 98617065 | E5: 97877589 | F5: 18129265
A6: 11 | B6: DISPONIBLE | C6: 2527762.1 | D6: 29021531 | E6: 29061271 | F6: 2488022.5
A7: 1101 | B7: CAJA | C7: 1000 | D7: 5587.9 | E7: 5587.9 | F7: 1000
A8: 110101 | B8: OFICINA PRINCIPAL | C8: 0 | D8: 5587.9 | E8: 5587.9 | F8: 0
A9: 1101011 | B9: OFICINA PRINCIPAL-MN | C9: 0 | D9: 5587.9 | E9: 5587.9 | F9: 0
A10: 110104 | B10: FONDOS FIJOS | C10: 1000 | D10: 0 | E10: 0 | F10: 1000
A11: 1101041 | B11: FONDOS FIJOS-MN | C11: 1000 | D11: 0 | E11: 0 | F11: 1000
A12: 1102 | B12: EFECTOS DE COBRO INMEDIATO | C12: 5466.89 | D12: 352862.49 | E12: 346956.1 | F12: 11373.28
A13: 110201 | B13: CHEQUES LOCALES | C13: 5466.89 | D13: 352862.49 | E13: 346956.1 | F13: 11373.28
A14: 1102011 | B14: CHEQUES LOCALES-MN | C14: 5466.89 | D14: 352862.49 | E14: 346956.1 | F14: 11373.28
A15: 1103 | B15: BANCOS LOCALES | C15: 2521295.2 | D15: 28663081 | E15: 28708727 | F15: 2475649.3
A16: 110301 | B16: CUENTA CORRIENTE | C16: 2521295.2 | D16: 28660356 | E16: 28706002 | F16: 2475649.3
... A1248: 90 | B1248: CUENTAS DE CONTROL POR CONTRA | C1248: -4333640.2 | D1248: 3711900 | E1248: 3584400 | F1248: -4206140.2

Sheet bc jd
A1: ATLÁNTIDA VIDA, S.A., SEGUROS DE PERSONAS
A2: BALANCE DE COMPROBACIÓN CORRESPONDIENTE AL MES DE MARZO 2026
A3: VALORES EXPRESADOS EN DÓLARES DE LOS ESTADOS UNIDOS DE AMÉRICA
A4: Cuenta | B4: NombreCuenta | C4: SALDO_ANTERIOR | D4: DEBE | E4: HABER | F4: SALDO | G4: digitos
A5: 1 | B5: ACTIVO | C5: 17389789 | D5: 48105937 | E5: 46825638 | F5: 18670088
A6: 11 | B6: DISPONIBLE | C6: 2527762.1 | D6: 11106793 | E6: 12207381 | F6: 1427173.6
A7: 1101 | B7: CAJA | C7: 1000 | D7: 116.92 | E7: 116.92 | F7: 1000
A8: 110101 | B8: OFICINA PRINCIPAL | C8: 0 | D8: 116.92 | E8: 116.92 | F8: 0
A9: 1101011 | B9: OFICINA PRINCIPAL-MN | C9: 0 | D9: 116.92 | E9: 116.92 | F9: 0
A10: 110104 | B10: FONDOS FIJOS | C10: 1000 | D10: 0 | E10: 0 | F10: 1000
A11: 1101041 | B11: FONDOS FIJOS-MN | C11: 1000 | D11: 0 | E11: 0 | F11: 1000
A12: 1102 | B12: EFECTOS DE COBRO INMEDIATO | C12: 5466.89 | D12: 11519.44 | E12: 11519.44 | F12: 5466.89
A13: 110201 | B13: CHEQUES LOCALES | C13: 5466.89 | D13: 11519.44 | E13: 11519.44 | F13: 5466.89
A14: 1102011 | B14: CHEQUES LOCALES-MN | C14: 5466.89 | D14: 11519.44 | E14: 11519.44 | F14: 5466.89
A15: 1103 | B15: BANCOS LOCALES | C15: 2521295.2 | D15: 11095157 | E15: 12195745 | F15: 1420706.7
A16: 110301 | B16: CUENTA CORRIENTE | C16: 2521295.2 | D16: 11095157 | E16: 12195745 | F16: 1420706.7
... A1168: 90 | B1168: CUENTAS DE CONTROL POR CONTRA | C1168: -4333640.2 | D1168: 751000 | E1168: 669400 | F1168: -4252040.2
A1281: 1104
A1282: 1904
A1283: 1905
A1284: 1999020
A1285: 1999010
A1286: 17
A1287: 220101
A1288: 2202
A1289: 2204
A1290: 2205
A1291: 2206
A1292: 2207
... A1303: 56

Sheet Hoja1
K18: 3270043776

Sheet BG1
D1: Atlántida Vida, S.A., Seguros de Personas
D2: Balance General al 30 de Abril de 2020
D3: Valores expresados en dólares de los Estados Unidos de América
A6: 1 | B6: ACTIVO | C6: =IFERROR(VLOOKUP(A6,Balanza!#REF!,7,FALSE),0) -> 0 | E6: 2 | F6: PASIVO | G6: =IFERROR(VLOOKUP(E6,Balanza!#REF!,7,FALSE)*-1,0) -> 0
A7: 11 | B7: DISPONIBLE | C7: =IFERROR(VLOOKUP(A7,Balanza!#REF!,7,FALSE),0) -> 0 | E7: 22 | F7: RESERVAS TECNICAS Y CONTINGENCIAL DE FIANZAS | G7: =IFERROR(VLOOKUP(E7,Balanza!#REF!,7,FALSE)*-1,0) -> 0
A8: 1103 | B8: BANCOS LOCALES | C8: =IFERROR(VLOOKUP(A8,Balanza!#REF!,7,FALSE),0) -> 0 | E8: 2201 | F8: RESERVAS TECNICAS DE SEGUROS DE VIDA | G8: =IFERROR(VLOOKUP(E8,Balanza!#REF!,7,FALSE)*-1,0) -> 0
A9: 12 | B9: INVERSIONES FINANCIERAS | C9: =IFERROR(VLOOKUP(A9,Balanza!#REF!,7,FALSE),0) -> 0 | E9: 2203 | F9: RESERVAS POR RIESGOS EN CURSO DE ACCIDENTES Y ENFERMEDADES | G9: =IFERROR(VLOOKUP(E9,Balanza!#REF!,7,FALSE)*-1,0) -> 0
A10: 1201 | B10: VALORES | C10: =IFERROR(VLOOKUP(A10,Balanza!#REF!,7,FALSE),0) -> 0 | E10: 24 | F10: SOCIEDADES ACREEDORAS DE SEGUROS Y FIANZAS | G10: =IFERROR(VLOOKUP(E10,Balanza!#REF!,7,FALSE)*-1,0) -> 0
A11: 1203 | B11: DIVERSOS INSTRUMENTOS FINANCIEROS | C11: =IFERROR(VLOOKUP(A11,Balanza!#REF!,7,FALSE),0) -> 0 | E11: 2401 | F11: OBLIGACIONES EN CUENTA CORRIENTE CON SOCIEDADES DE REASEGURO Y REAFIANZAMIENTO | G11: =IFERROR(VLOOKUP(E11,Balanza!#REF!,7,FALSE)*-1,0) -> 0
A12: 1298 | B12: RENDIMIENTOS POR INVERSIONES | C12: =IFERROR(VLOOKUP(A12,Balanza!#REF!,7,FALSE),0) -> 0 | E12: 25 | F12: OBLIGACIONES FINANCIERAS | G12: =IFERROR(VLOOKUP(E12,Balanza!#REF!,7,FALSE)*-1,0) -> 0
A13: 14 | B13: PRIMAS POR COBRAR | C13: =IFERROR(VLOOKUP(A13,Balanza!#REF!,7,FALSE),0) -> 0 | E13: 2501 | F13: OBLIGACIONES CON INSTITUCIONES FINANCIERAS | G13: =IFERROR(VLOOKUP(E13,Balanza!#REF!,7,FALSE)*-1,0) -> 0
A14: 1401 | B14: PRIMAS DE SEGUROS DE VIDA | C14: =IFERROR(VLOOKUP(A14,Balanza!#REF!,7,FALSE),0) -> 0 | E14: 2508 | F14: INTERESES POR PAGAR | G14: =IFERROR(VLOOKUP(E14,Balanza!#REF!,7,FALSE)*-1,0) -> 0
A15: 1403 | B15: PRIMAS DE SEGUROS DE ACCIDENTES Y ENFERMEDADES | C15: =IFERROR(VLOOKUP(A15,Balanza!#REF!,7,FALSE),0) -> 0 | E15: 26 | F15: OBLIGACIONES CON INTERMEDIARIOS Y AGENTES | G15: =IFERROR(VLOOKUP(E15,Balanza!#REF!,7,FALSE)*-1,0) -> 0
A16: 18 | B16: INMUEBLES, MOBILIARIO Y EQUIPO | C16: =IFERROR(VLOOKUP(A16,Balanza!#REF!,7,FALSE),0) -> 0 | E16: 2601 | F16: OBLIGACIONES CON INTERMEDIARIOS DE SEGUROS | G16: =IFERROR(VLOOKUP(E16,Balanza!#REF!,7,FALSE)*-1,0) -> 0
A17: 1803 | B17: MOBILIARIO Y EQUIPO | C17: =IFERROR(VLOOKUP(A17,Balanza!#REF!,7,FALSE),0) -> 0 | E17: 2602 | F17: OBLIGACIONES CON AGENTES | G17: =IFERROR(VLOOKUP(E17,Balanza!#REF!,7,FALSE)*-1,0) -> 0
... A22: 1903 | B22: IMPUESTO SOBRE LA RENTA POR LIQUIDAR | C22: =IFERROR(VLOOKUP(A22,Balanza!#REF!,7,FALSE),0) -> 0 | E22: 28 | F22: PROVISIONES | G22: =IFERROR(VLOOKUP(E22,Balanza!#REF!,7,FALSE)*-1,0) -> 0
E23: 2801 | F23: PROVISION POR OBLIGACIONES LABORALES | G23: =IFERROR(VLOOKUP(E23,Balanza!#REF!,7,FALSE)*-1,0) -> 0
E24: 29 | F24: OTROS PASIVOS | G24: =IFERROR(VLOOKUP(E24,Balanza!#REF!,7,FALSE)*-1,0) -> 0
E25: 2907 | F25: OTROS PASIVOS CON FILIALES | G25: =IFERROR(VLOOKUP(E25,Balanza!#REF!,7,FALSE)*-1,0) -> 0
E26: 3 | F26: PATRIMONIO | G26: =+G27+G28+G30+G32 -> 6037291.4
E27: 31 | F27: CAPITAL SOCIAL | G27: 6015000
E28: 35 | F28: RESERVAS DE CAPITAL | G28: 168167.75
E29: 3501 | F29: RESERVAS OBLIGATORIAS | G29: 168167.75
E30: 36 | F30: PATRIMONIO RESTRINGIDO | G30: 8281.23
E31: 3602 | F31: UTILIDADES NO DISTRIBUIBLES | G31: 8281.23
E32: 38 | F32: RESULTADOS ACUMULADOS | G32: =+G33+G34 -> -154157.63 | H32: -253552.55
E33: 3801 | F33: RESULTADOS DEL EJERCICIO | G33: =+'ER1'!G28 -> 0
E34: 3802 | F34: RESULTADOS DE EJERCICIOS ANTERIORES | G34: -154157.63
A36: TOTAL ACTIVOS | C36: =+C6 -> 0 | E36: TOTAL PASIVO Y PATRIMONIO | G36: =+G6+G26 -> 6037291.4
A39: 8 | B39: CUENTAS DE CONTROL | C39: =IFERROR(VLOOKUP(A39,Balanza!#REF!,7,FALSE),0) -> 0 | E39: 9 | F39: CUENTAS DE CONTROL POR CONTRA | G39: =IFERROR(VLOOKUP(E39,Balanza!#REF!,7,FALSE),0)*-1 -> 0
A40: 81 | B40: CUENTAS DE CONTROL DEUDORAS | C40: =IFERROR(VLOOKUP(A40,Balanza!#REF!,7,FALSE),0) -> 0
A41: 8103 | B41: VALORES Y BIENES DADOS EN CUSTODIA | C41: =IFERROR(VLOOKUP(A41,Balanza!#REF!,7,FALSE),0) -> 0
B47: Carlos Marcelo Olano | F47: Julio Cesar Alvarenga
B48: Gerente General | F48: Contador Corporativo

Sheet BG
B1: Atlántida Vida, S.A., Seguros de Personas
B2: Balance General al 30 de septiembre 2026
B3: Valores expresados en dólares de los Estados Unidos de América
A5: ACTIVOS
A6: ACTIVOS DEL GIRO
A7: Caja y Bancos | C7: =((VLOOKUP(1101,Balanza!A:F,6,FALSE))+(VLOOKUP(1103,Balanza!A:F,6,FALSE))) -> 2476649.3
A8: Efectos de cobro inmediato | C8: =(VLOOKUP(1102,Balanza!A:F,6,FALSE)) -> 11373.28
A9: Inversiones Financieras | C9: =(VLOOKUP(12,Balanza!A:F,6,FALSE)) -> 6713105.9
A10: Cartera de Préstamos | C10: =(VLOOKUP(13,Balanza!A:F,6,FALSE)) -> 3050380
A11: Primas por Cobrar | C11: =(VLOOKUP(14,Balanza!A:F,6,FALSE)) -> 2909084.7
A12: Deudores por Seguros y Fianzas | C12: =(VLOOKUP(16,Balanza!A:F,6,FALSE)) -> 1527268.4
A13: Total Activos del Giro | D13: =SUM(C7:C12) -> 16687862
A14: OTROS ACTIVOS
A15: Inmuebles recibidos en pago | C15: 0
A16: Inversiones Permanentes | C16: =IFERROR(VLOOKUP(17,Balanza!A:F,6,FALSE),0) -> 0
A17: Diversos | C17: =(VLOOKUP(1901,Balanza!A:F,6,FALSE)+(VLOOKUP(1902,Balanza!A:F,6,FALSE))+(VLOOKUP(1903,Balanza!A:F,6,FALSE))+(VLOOKUP(1904,Balanza!A:F,6,FALSE))) -> 1441301.2
A18: Total Otros Activos | D18: =SUM(C15:C17) -> 1441301.2
A19: ACTIVO FIJO
A20: Bienes Inmuebles, Muebles y Otros | C20: =(VLOOKUP(18,Balanza!A:F,6,FALSE)) -> 102.36
A21: Total Activos Fijos | D21: =SUM(C20) -> 102.36
A22: TOTAL DE ACTIVOS | D22: =SUM(D13:D21) -> 18129265
A24: PASIVOS
A25: PASIVOS DEL GIRO
A26: Obligaciones con Asegurados | C26: =-(VLOOKUP(21,Balanza!A:F,6,FALSE)) -> 119711.82
A27: Obligaciones Financieras | C27: 0
A28: Sociedades Acreedoras de Seguros y Fianzas | C28: =-(VLOOKUP(24,Balanza!A:F,6,FALSE)) -> 1056098.8
A29: Obligaciones con Intermediarios y Agentes | C29: =-(VLOOKUP(26,Balanza!A:F,6,FALSE)) -> 668316.1
A30: Reportos y Otras Obligaciones Bursátiles | C30: =-IFERROR((VLOOKUP(250401,Balanza!A:F,6,FALSE)),0) -> 0
A31: Total Pasivos del Giro | D31: =SUM(C26:C30) -> 1844126.7
A32: OTROS PASIVOS
A33: Cuentas por pagar | C33: =-(VLOOKUP(27,Balanza!A:F,6,FALSE)) -> 739225.73
A34: Provisiones | C34: =-(VLOOKUP(28,Balanza!A:F,6,FALSE)) -> 125858.11
A35: Diversos. | C35: =-(VLOOKUP(29,Balanza!A:F,6,FALSE)) -> 0
A36: Total Otros Pasivos | D36: =SUM(C33:C35) -> 865083.84
A37: RESERVAS TÉCNICAS
A38: Reservas Matemáticas | C38: =-((VLOOKUP(220101,Balanza!A:F,6,FALSE))) -> 32011.25
A39: Reservas de Riesgo en Curso | C39: =(-(VLOOKUP(220102,Balanza!A:F,6,FALSE))-(VLOOKUP(220103,Balanza!A:F,6,FALSE))-(VLOOKUP(2203,Balanza!A:F,6,FALSE))) -> 2925280.3
A40: Total Reservas Técnicas | D40: =SUM(C38:C39) -> 2957291.5
A41: RESERVAS POR SINIESTROS
A42: Reportados | C42: =-(VLOOKUP(2301,Balanza!A:F,6,FALSE)) -> 1390610.3
...

Sheet BGv3
B1: Atlántida Vida, S.A., Seguros de Personas
B2: Balance General al 30 de Septiembre de 2019
B3: Valores expresados en dólares de los Estados Unidos de América
A7: ACTIVOS
A9: ACTIVOS DEL GIRO
A10: Caja y Bancos | C10: =+Balanza!#REF!+Balanza!#REF!+Balanza!#REF! -> #REF!
A11: Inversiones Financieras | C11: =+Balanza!#REF!+Balanza!#REF!+Balanza!#REF! -> #REF!
A12: Cartera de Préstamos | C12: 0
A13: Primas por Cobrar | C13: 0
A14: Deudores por Seguros y Fianzas | C14: 0
A15: Total Activos del Giro | C15: =SUM(C10:C14) -> #REF!
A17: OTROS ACTIVOS
A18: Inversiones Permanentes | C18: 0
A19: Diversos | C19: =+Balanza!#REF! -> #REF!
A20: Total Otros Activos | C20: =SUM(C18:C19) -> #REF!
A22: ACTIVO FIJO
A23: Bienes Inmuebles, Muebles y Otros | C23: =+Balanza!#REF! -> #REF!
A24: Total Activos Fijos | C24: =SUM(C23) -> #REF!
A26: TOTAL DE ACTIVOS | C26: =+C15+C20+C24 -> #REF!
A29: PASIVOS
A31: PASIVOS DEL GIRO
A32: Obligaciones con Asegurados | C32: 0
A33: Obligaciones Financieras | C33: 0
A34: Sociedades Acreedoras de Seguros y Fianzas | C34: 0
A35: Obligaciones con Intermediarios y Agentes | C35: 0
A36: Reportos y Otras Obligaciones Bursátiles | C36: 0
A37: Total Pasivos del Giro | C37: =SUM(C32:C36) -> 0
A39: OTROS PASIVOS
A40: Cuentas por pagar | C40: =+Balanza!#REF!*-1 -> #REF!
A41: Provisiones | C41: =+Balanza!#REF!*-1 -> #REF!
A42: Diversos | C42: =+Balanza!#REF!*-1 -> #REF!
A43: Total Otros Pasivos | C43: =SUM(C40:C42) -> #REF!
A45: RESERVAS TÉCNICAS
A46: Reservas Matemáticas | C46: 0
A47: Reservas de Riesgo en Curso | C47: 0
A48: Total Reservas Técnicas | C48: =SUM(C46:C47) -> 0
A50: RESERVAS POR SINIESTROS
A51: Reportados | C51: 0
A52: No Reportados | C52: 0
A53: Total Reservas por Siniestros | C53: =SUM(C51:C52) -> 0
...

Sheet BGvM
B1: Atlántida Vida, S.A., Seguros de Personas
B2: Balance General Del 1 al 31 de Mayo de 2021
B3: Valores expresados en dólares de los Estados Unidos de América
A6: ACTIVOS
A7: ACTIVOS DEL GIRO
A8: Caja y Bancos | C8: =(Balanza!#REF!+Balanza!#REF!+Balanza!#REF!)-(Balanza!#REF!+Balanza!#REF!+Balanza!#REF!) -> #REF!
A9: Efectos de cobro inmediato | C9: =(Balanza!#REF!)-(Balanza!#REF!) -> #REF!
A10: Inversiones Financieras | C10: =(Balanza!#REF!)-(Balanza!#REF!) -> #REF!
A11: Cartera de Préstamos | C11: =(Balanza!#REF!)-(Balanza!#REF!) -> #REF!
A12: Primas por Cobrar | C12: =(Balanza!#REF!)-(Balanza!#REF!) -> #REF!
A13: Deudores por Seguros y Fianzas | C13: =(Balanza!#REF!)-(Balanza!#REF!) -> #REF!
A14: Total Activos del Giro | D14: =SUM(C8:C13) -> #REF!
A15: OTROS ACTIVOS
A16: Bienes recibidos en pago | C16: =(Balanza!#REF!+Balanza!#REF!)-(Balanza!#REF!+Balanza!#REF!) -> #REF!
A17: Inversiones Permanentes | C17: =(Balanza!#REF!)-(Balanza!#REF!) -> #REF!
A18: Diversos | C18: =(Balanza!#REF!+Balanza!#REF!+Balanza!#REF!+Balanza!#REF!+Balanza!#REF!)-(Balanza!#REF!+Balanza!#REF!+Balanza!#REF!+Balanza!#REF!+Balanza!#REF!) -> #REF!
A19: Total Otros Activos | D19: =SUM(C16:C18) -> #REF!
A20: ACTIVO FIJO
A21: Bienes Inmuebles, Muebles y Otros | C21: =(Balanza!#REF!)-(Balanza!#REF!) -> #REF!
A22: Total Activos Fijos | D22: =SUM(C21) -> #REF!
A23: TOTAL DE ACTIVOS | D23: =+D14+D19+D22 -> #REF!
A25: PASIVOS
A26: PASIVOS DEL GIRO
A27: Obligaciones con Asegurados | C27: =(Balanza!#REF!*-1)-(Balanza!#REF!*-1) -> #REF!
A28: Obligaciones Financieras | C28: =(Balanza!#REF!*-1)-(Balanza!#REF!*-1) -> #REF!
A29: Sociedades Acreedoras de Seguros y Fianzas | C29: =(Balanza!#REF!*-1)-(Balanza!#REF!*-1) -> #REF!
A30: Obligaciones con Intermediarios y Agentes | C30: =(Balanza!#REF!*-1)-(Balanza!#REF!*-1) -> #REF!
A31: Reportos y Otras Obligaciones Bursátiles | C31: =(Balanza!#REF!*-1)-(Balanza!#REF!*-1) -> #REF!
A32: Total Pasivos del Giro | D32: =SUM(C27:C31) -> #REF!
A33: OTROS PASIVOS
A34: Cuentas por pagar | C34: =(Balanza!#REF!*-1)-(Balanza!#REF!*-1) -> #REF!
A35: Provisiones | C35: =(Balanza!#REF!*-1)-(Balanza!#REF!*-1) -> #REF!
A36: Diversos | C36: =(Balanza!#REF!*-1)-(Balanza!#REF!*-1) -> #REF!
A37: Total Otros Pasivos | D37: =SUM(C34:C36) -> #REF!
A38: RESERVAS TÉCNICAS
A39: Reservas Matemáticas | C39: =(Balanza!#REF!*-1)+(Balanza!#REF!*-1)-(Balanza!#REF!*-1)+(Balanza!#REF!*-1) -> #REF!
A40: Reservas de Riesgo en Curso | C40: =((Balanza!#REF!*-1)+(Balanza!#REF!*-1)+(Balanza!#REF!*-1)+(Balanza!#REF!*-1)+(Balanza!#REF!*-1)+(Balanza!#REF!*-1)+(Balanza!#REF!*-1)+(Balanza!#REF!*-1)+(Balanza!#REF!*-1)+(Balanza!#REF!*-1)-((Balanza!#REF!*-1)+(Balanza!#REF!*-1)+(Balanza!#REF!*-1)+(Balanza!#REF!*-1)+(Balanza!#REF!*-1)+(Balanza!#REF!*-1)+(Balanza!#REF!*-1)+(Balanza!#REF!*-1)+(Balanza!#REF!*-1)+(Balanza!#REF!*-1))) -> #REF!
A41: Total Reservas Técnicas | D41: =SUM(C39:C40) -> #REF!
A42: RESERVAS POR SINIESTROS
A43: Reportados | C43: =(Balanza!#REF!*-1)-(Balanza!#REF!*-1) -> #REF!
...

Sheet BGvM2
B1: Atlántida Vida, S.A., Seguros de Personas
B2: Balance General del 1 al 31 de Enero de 2020
B3: Valores expresados en dólares de los Estados Unidos de América
A7: ACTIVOS
A9: ACTIVOS DEL GIRO
A10: Caja y Bancos | C10: =((+Balanza!#REF!+Balanza!#REF!+Balanza!#REF!)-(+Balanza!#REF!+Balanza!#REF!+Balanza!#REF!)) -> #REF!
A11: Inversiones Financieras | C11: =((+Balanza!#REF!+Balanza!#REF!+Balanza!#REF!)-(+Balanza!#REF!+Balanza!#REF!+Balanza!#REF!)) -> #REF!
A12: Cartera de Préstamos | D12: 0
A13: Primas por Cobrar | D13: 0
A14: Deudores por Seguros y Fianzas | D14: 0
A15: Total Activos del Giro | D15: =SUM(C9:C13) -> #REF!
A17: OTROS ACTIVOS
A18: Inversiones Permanentes | D18: 0
A19: Diversos | C19: =((+Balanza!#REF!)-(+Balanza!#REF!)) -> #REF!
A20: Total Otros Activos | D20: =SUM(C18:C19) -> #REF!
A22: ACTIVO FIJO
A23: Bienes Inmuebles, Muebles y Otros | C23: =((+Balanza!#REF!)-(+Balanza!#REF!)) -> #REF!
A24: Total Activos Fijos | D24: =SUM(C23) -> #REF!
A26: TOTAL DE ACTIVOS | D26: =+D15+D20+D24 -> #REF!
A29: PASIVOS
A31: PASIVOS DEL GIRO
A32: Obligaciones con Asegurados | D32: 0
A33: Obligaciones Financieras | C33: =(Balanza!#REF!*-1)-(Balanza!#REF!*-1) -> #REF!
A34: Sociedades Acreedoras de Seguros y Fianzas | D34: 0
A35: Obligaciones con Intermediarios y Agentes | D35: 0
A36: Reportos y Otras Obligaciones Bursátiles | D36: 0
A37: Total Pasivos del Giro | D37: =SUM(C32:C36) -> #REF!
A39: OTROS PASIVOS
A40: Cuentas por pagar | C40: =(Balanza!#REF!*-1)-(Balanza!#REF!*-1) -> #REF!
A41: Provisiones | C41: =(Balanza!#REF!*-1)-(Balanza!#REF!*-1) -> #REF!
A42: Diversos | C42: =+Balanza!#REF!*-1 -> #REF!
A43: Total Otros Pasivos | D43: =SUM(C40:C42) -> #REF!
A45: RESERVAS TÉCNICAS
A46: Reservas Matemáticas | D46: 0
A47: Reservas de Riesgo en Curso | D47: 0
A48: Total Reservas Técnicas | D48: =SUM(D46:D47) -> 0
A50: RESERVAS POR SINIESTROS
A51: Reportados | D51: 0
A52: No Reportados | D52: 0
A53: Total Reservas por Siniestros | D53: =SUM(D51:D52) -> 0
...

Sheet ER1
D1: Atlántida Vida, S.A., Seguros de Personas
D2: Estado de Resultados del 1 de Enero al 31 de Marzo de 2020
D3: Valores expresados en dólares de los Estados Unidos de América
A8: 4 | B8: GASTOS | C8: =IFERROR(VLOOKUP(A8,Balanza!#REF!,7,FALSE),0) -> 0 | E8: 5 | F8: INGRESOS | G8: =IFERROR(VLOOKUP(E8,Balanza!#REF!,7,FALSE)*-1,0) -> 0
A9: 47 | B9: GASTOS FINANCIEROS Y DE INVERSION | C9: =IFERROR(VLOOKUP(A9,Balanza!#REF!,7,FALSE),0) -> 0 | E9: 57 | F9: INGRESOS FINANCIEROS Y DE INVERSION | G9: =IFERROR(VLOOKUP(E9,Balanza!#REF!,7,FALSE)*-1,0) -> 0
A10: 4701 | B10: POR OBLIGACIONES FINANCIERAS Y OTROS PASIVOS | C10: =IFERROR(VLOOKUP(A10,Balanza!#REF!,7,FALSE),0) -> 0 | E10: 5701 | F10: DEPOSITOS | G10: =IFERROR(VLOOKUP(E10,Balanza!#REF!,7,FALSE)*-1,0) -> 0
A11: 48 | B11: GASTOS DE ADMINISTRACION | C11: =IFERROR(VLOOKUP(A11,Balanza!#REF!,7,FALSE),0) -> 0 | E11: 5702 | F11: POR INVERSIONES EN VALORES | G11: =IFERROR(VLOOKUP(E11,Balanza!#REF!,7,FALSE)*-1,0) -> 0
A12: 4801 | B12: DE PERSONAL | C12: =IFERROR(VLOOKUP(A12,Balanza!#REF!,7,FALSE),0) -> 0 | E12: 5706 | F12: DIVERSOS | G12: =IFERROR(VLOOKUP(E12,Balanza!#REF!,7,FALSE)*-1,0) -> 0
A13: 4803 | B13: POR SERVICIOS RECIBIDOS DE TERCEROS | C13: =IFERROR(VLOOKUP(A13,Balanza!#REF!,7,FALSE),0) -> 0 | E13: 59 | F13: INGRESOS EXTRAORDINARIOS Y DE EJERCICIOS ANTERIORES | G13: =IFERROR(VLOOKUP(E13,Balanza!#REF!,7,FALSE)*-1,0) -> 0
A14: 4804 | B14: POR SEGUROS | C14: =IFERROR(VLOOKUP(A14,Balanza!#REF!,7,FALSE),0) -> 0 | E14: 5901 | F14: EXTRAORDINARIOS | G14: =IFERROR(VLOOKUP(E14,Balanza!#REF!,7,FALSE)*-1,0) -> 0
A15: 4805 | B15: IMPUESTOS Y CONTRIBUCIONES | C15: =IFERROR(VLOOKUP(A15,Balanza!#REF!,7,FALSE),0) -> 0 | E15: 5902 | F15: DE EJERCICIOS ANTERIORES | G15: =IFERROR(VLOOKUP(E15,Balanza!#REF!,7,FALSE)*-1,0) -> 0
A16: 4806 | B16: DEPRECIACION | C16: =IFERROR(VLOOKUP(A16,Balanza!#REF!,7,FALSE),0) -> 0
A17: 4808 | B17: AMORTIZACION DE GASTOS | C17: =IFERROR(VLOOKUP(A17,Balanza!#REF!,7,FALSE),0) -> 0
A18: 4809 | B18: GASTOS DIVERSOS | C18: =IFERROR(VLOOKUP(A18,Balanza!#REF!,7,FALSE),0) -> 0
A19: 49 | B19: GASTOS EXTRAORDINARIOS Y DE EJERCICIOS ANTERIORES | C19: =IFERROR(VLOOKUP(A19,Balanza!#REF!,7,FALSE),0) -> 0
A20: 4902 | B20: GASTOS DE EJERCICIOS ANTERIORES | C20: =IFERROR(VLOOKUP(A20,Balanza!#REF!,7,FALSE),0) -> 0
E28: SUPERAVIT (PÉRDIDA) DEL EJERCICIO | G28: =+G8-C8 -> 0
B44: Carlos Marcelo Olano | F44: Julio Cesar Alvarenga
B45: Gerente General | F45: Contador Corporativo

Sheet ER
D2: Atlántida Vida, S.A., Seguros de Personas
D3: Estado de Resultados del 1 de enero al 30 de septiembre 2026
D4: Valores expresados en dólares de los Estados Unidos de América
B8: INGRESOS POR OPERACIONES DE SEGUROS
C9: PRIMAS NETAS DE DEVOLUCIONES Y CANCELACIONES | E9: =-(VLOOKUP(51,Balanza!A:F,6,FALSE)+(VLOOKUP(46,Balanza!A:F,6,FALSE))) -> 7159045.6
C10: INGRESO POR DECREMENTO DE RESERVAS TÉCNICAS | E10: =-(VLOOKUP(52,Balanza!A:F,6,FALSE)) -> 9670890.8
C11: SINIESTROS Y GASTOS RECUPERADOS POR REASEGUROS Y REAFIANZAMIENTOS CEDIDOS | E11: =-(VLOOKUP(54,Balanza!A:F,6,FALSE)) -> 1187337.7
C12: REEMBOLSOS DE GASTOS POR CESIONES | E12: =-(VLOOKUP(55,Balanza!A:F,6,FALSE)) -> 1293589.1
C13: INGRESOS FINANCIEROS Y DE INVERSIONES | E13: =-(VLOOKUP(57,Balanza!A:F,6,FALSE)) -> 566679.03
B14: TOTAL INGRESOS POR OPERACIONES DE SEGUROS | E14: =SUM(E9:E13) -> 19877542
B16: COSTOS DE OPERACIONES
C17: SINIESTROS | E17: =(VLOOKUP(41,Balanza!A:F,6,FALSE)) -> 7572792.3
C18: PRIMAS CEDIDAS POR REASEGUROS Y REAFIANZAMIENTOS | E18: =(VLOOKUP(42,Balanza!A:F,6,FALSE)) -> 1859978.4
C19: GASTO POR INCREMENTO DE RESERVAS TÉCNICAS | E19: =(VLOOKUP(43,Balanza!A:F,6,FALSE)) -> 9748520.3
C20: GASTOS DE ADQUISICIÓN Y CONSERVACIÓN | E20: =(VLOOKUP(45,Balanza!A:F,6,FALSE)) -> 1933592.6
B21: TOTAL COSTOS DE OPERACIONES | E21: =SUM(E17:E20) -> 21114884
C23: RESERVAS DE SANEAMIENTO | E23: =(VLOOKUP(4703,Balanza!A:F,6,FALSE))+(VLOOKUP(4704,Balanza!A:F,6,FALSE)) -> 310955.22
B25: UTILIDAD (PÉRDIDA) ANTES DE GASTOS | E25: =+E14-E21-E23 -> -1548296.8
B27: GASTOS DE OPERACIÓN
C28: GASTOS FINANCIEROS Y DE INVERSIÓN | E28: =+(VLOOKUP(4701,Balanza!A:F,6,FALSE)) -> 27628.88
C29: GASTOS DE ADMINISTRACIÓN | E29: =+(VLOOKUP(48,Balanza!A:F,6,FALSE))-E38 -> 1719775.5
B30: TOTAL GASTOS DE OPERACIÓN | E30: =SUM(E28:E29) -> 1747404.3
B32: UTILIDAD (PERDIDA) DE OPERACIÓN | E32: =E25-E30 -> -3295701.1
C34: OTROS INGRESOS Y GASTOS -NETO | E34: =-(VLOOKUP(49,Balanza!A:F,6,FALSE)+(VLOOKUP(59,Balanza!A:F,6,FALSE)+(VLOOKUP(58,Balanza!A:F,6,FALSE)))) -> 2822034.1
B36: UTILIDAD ANTES DE IMPUESTOS | E36: =E32+E34 -> -473667.01
C38: IMPUESTO SOBRE LA RENTA | E38: =(VLOOKUP(480509004,Balanza!A:F,6,FALSE)) -> 137858.24
B40: UTILIDAD DEL EJERCICIO | E40: =+E36-E38 -> -611525.25 | F40: 895545.74
C48: Carlos Marcelo Olano | E48: Zuleyma Flores
C49: Gerente General | E49: Contador General

Sheet Indices2025
B1: =Balanza!A1 -> ATLÁNTIDA VIDA, S.A., SEGUROS DE PERSONAS | F1: 45869
B2: Indicadores financieros de Sociedades de Seguros
B3: =CONCATENATE("Al ",TEXT(F1,"dd mmmm yyyy")) -> Al 31 julio 2025
B6: Indicador | D6: Atlántida Vida, S.A., Seguros de Personas
A9: /0 | B9: 1 | C9: Suficiencia ó Deficiencia de Patrimonio Neto
A10: Resultados acumulados | B10: 2 | C10: Pérdidas Acumuladas a Patrimonio Neto | D10: =SUM(-SUMIF(Balanza!$A:$A,5,Balanza!$F:$F)-SUMIF(Balanza!$A:$A,4,Balanza!$F:$F)-SUMIF(Balanza!$A:$A,38,Balanza!$F:$F))/SUM(11067849) -> -0.055252403
B11: 3 | C11: Excedente ó Deficiencia de Inversión
A12: Deuda Total | B12: 4 | C12: Endeudamiento Patrimonial (veces)
A13: Liquidez | B13: 5 | C13: Liquidez (veces) | D13: =SUM(SUMIF(Balanza!$A:$A,11,Balanza!$F:$F)+SUMIF(Balanza!$A:$A,12,Balanza!$F:$F)+SUMIF(Balanza!$A:$A,1301,Balanza!$F:$F))/SUM(-SUMIF(Balanza!$A:$A,2,Balanza!$F:$F)+SUMIF(Balanza!$A:$A,220101,Balanza!$F:$F)) -> 1.5322705
A14: Cesión | B14: 6 | C14: Índice reaseguro cedido
A15: Siniestralidad | B15: 7 | C15: Siniestralidad | D15: =SUM((SUMIF(Balanza!$A:$A,41,Balanza!$F:$F)+SUMIF(Balanza!$A:$A,54,Balanza!$F:$F))-SUM(-SUMIF(Balanza!$A:$A,52,Balanza!$F:$F)+SUMIF(Balanza!$A:$A,5209,Balanza!$F:$F))+SUM(SUMIF(Balanza!$A:$A,43,Balanza!$F:$F)-SUMIF(Balanza!$A:$A,4309,Balanza!$F:$F)))/SUM(SUM(-SUMIF(Balanza!$A:$A,51,Balanza!$F:$F)-SUMIF(Balanza!$A:$A,46,Balanza!$F:$F)-SUMIF(Balanza!$A:$A,42,Balanza!$F:$F))+SUM(-SUMIF(Balanza!$A:$A,52,Balanza!$F:$F)+SUMIF(Balanza!$A:$A,5209,Balanza!$F:$F))-SUM(SUMIF(Balanza!$A:$A,43,Balanza!$F:$F)-SUMIF(Balanza!$A:$A,4309,Balanza!$F:$F))) -> 1.6189593
B16: 8 | C16: Roe | D16: =SUM(-SUMIF(Balanza!$A:$A,5,Balanza!$F:$F)-SUMIF(Balanza!$A:$A,4,Balanza!$F:$F))/SUM(-SUMIF(Balanza!$A:$A,31,Balanza!$F:$F)) -> -0.055517499
B17: 9 | C17: Roe anualizado
A18: Indice Combinado | B18: 10 | C18: Índice Combinado | D18: =SUM((SUMIF(Balanza!$A:$A,41,Balanza!$F:$F)+SUMIF(Balanza!$A:$A,54,Balanza!$F:$F))-SUM(-SUMIF(Balanza!$A:$A,52,Balanza!$F:$F)+SUMIF(Balanza!$A:$A,5209,Balanza!$F:$F))+SUM(SUMIF(Balanza!$A:$A,43,Balanza!$F:$F)-SUMIF(Balanza!$A:$A,4309,Balanza!$F:$F)))/SUM(SUM(-SUMIF(Balanza!$A:$A,51,Balanza!$F:$F)-SUMIF(Balanza!$A:$A,46,Balanza!$F:$F)-SUMIF(Balanza!$A:$A,42,Balanza!$F:$F))+SUM(-SUMIF(Balanza!$A:$A,52,Balanza!$F:$F)+SUMIF(Balanza!$A:$A,5209,Balanza!$F:$F))-SUM(SUMIF(Balanza!$A:$A,43,Balanza!$F:$F)-SUMIF(Balanza!$A:$A,4309,Balanza!$F:$F)))+SUM(SUMIF(Balanza!$A:$A,48,Balanza!$F:$F)/SUM(-SUMIF(Balanza!$A:$A,51,Balanza!$F:$F)-SUMIF(Balanza!$A:$A,46,Balanza!$F:$F)-SUMIF(Balanza!$A:$A,42,Balanza!$F:$F)))+SUM((SUMIF(Balanza!$A:$A,45,Balanza!$F:$F)+SUMIF(Balanza!$A:$A,55,Balanza!$F:$F))/SUM(-SUMIF(Balanza!$A:$A,51,Balanza!$F:$F)-SUMIF(Balanza!$A:$A,46,Balanza!$F:$F)-SUMIF(Balanza!$A:$A,42,Balanza!$F:$F))) -> 2.0902946
A19: Gastos Admon/Primas Netas | B19: 11 | C19: Gastos Administrativos a Primas Netas | D19: =SUMIF(Balanza!$A:$A,48,Balanza!$F:$F)/SUM(-SUMIF(Balanza!$A:$A,51,Balanza!$F:$F)-SUMIF(Balanza!$A:$A,46,Balanza!$F:$F)) -> 0.25948064
B20: 12 | C20: Rotación Primas por Cobrar (días)
A21: Recuperados | B21: 13 | C21: Índice de siniestros recuperados | D21: =-SUMIF(Balanza!$A:$A,54,Balanza!$F:$F)/SUMIF(Balanza!$A:$A,41,Balanza!$F:$F) -> 0.15678994
A22: Respaldo Pasivos Técnicos | B22: 14 | C22: Respaldo Pasivos Técnicos | D22: =SUM(SUMIF(Balanza!$A:$A,11,Balanza!$F:$F)+SUMIF(Balanza!$A:$A,12,Balanza!$F:$F)+SUMIF(Balanza!$A:$A,1301,Balanza!$F:$F))/-SUM(SUMIF(Balanza!$A:$A,21,Balanza!$F:$F)+SUMIF(Balanza!$A:$A,22,Balanza!$F:$F)+SUMIF(Balanza!$A:$A,23,Balanza!$F:$F)) -> 2.3131509
A23: Variación Primas Netas | B23: 15 | C23: Variación Primas Netas (Interanual)
A24: Variación Siniestros | B24: 16 | C24: Variación Siniestros (Interanual)

Sheet pda
A1: CODIGO SUCURSAL | C1: Punto de venta | E1: Empresa contable | G1: Codigo Destino | I1: Tipo de movimiento contable | K1: Fecha de operación | L1: Codigo de Moneda
A2: 1 | C2: 0 | E2: 0 | G2: 1 | I2: 2 | K2: 30/06/2025 | L2: 0
A4: Nro. Fila | B4: Nro. Cuenta Contable | C4: Naturaleza Contable | E4: Importe | F4: Moneda | G4: Tasa Cambio | H4: Importe Local | I4: Documento de identificacion | J4: Descripcion del movimiento | K4: Conciliacion Bancaria | M4: Numero de Comprobante | N4: Fecha Comprobante | O4: Codigo centro de costo | Q4: Porcentage | R4: Codigo analisis | T4: Codigo Concepto analisis | V4: Clave analisis | W4: Descripcion analisis | X4: Codigo postfechado | Z4: Codigo Moneda postfechado | AB4: Nro. Documento Postfechado | AC4: Importe Emision Postfechado
A5: 1 | B5: 1499011010101000 | C5: C | E5: 237.18 | F5: 0 | G5: 1 | H5: =SUM(E5) -> 237.18 | I5: 0 | J5: TRASLADO SALDO A CUENTA DE DETALLE
A6: 2 | B6: 1499011020101000 | C6: D | E6: 237.18 | F6: 0 | G6: 1 | H6: =SUM(E6) -> 237.18 | I6: 0 | J6: TRASLADO SALDO A CUENTA DE DETALLE
A7: 3 | B7: 1499031020102000 | C7: C | E7: 38.83 | F7: 0 | G7: 1 | H7: =SUM(E7) -> 38.83 | I7: 0 | J7: TRASLADO SALDO A CUENTA DE DETALLE
A8: 4 | B8: 1499031020200000 | C8: D | E8: 38.83 | F8: 0 | G8: 1 | H8: =SUM(E8) -> 38.83 | I8: 0 | J8: TRASLADO SALDO A CUENTA DE DETALLE
A9: 5 | B9: 2101031010000000 | C9: C | E9: 32064.25 | F9: 0 | G9: 1 | H9: =SUM(E9) -> 32064.25 | I9: 0 | J9: TRASLADO SALDO A CUENTA DE DETALLE
A10: 6 | B10: 2101031010100000 | C10: D | E10: 14829.72 | F10: 0 | G10: 1 | H10: =SUM(E10) -> 14829.72 | I10: 0 | J10: TRASLADO SALDO A CUENTA DE DETALLE
A11: 7 | B11: 2101031010200000 | C11: D | E11: 17234.53 | F11: 0 | G11: 1 | H11: =SUM(E11) -> 17234.53 | I11: 0 | J11: TRASLADO SALDO A CUENTA DE DETALLE
A12: 8 | B12: 2601011000000000 | C12: D | E12: 76078.06 | F12: 0 | G12: 1 | H12: =SUM(E12) -> 76078.06 | I12: 0 | J12: TRASLADO SALDO A CUENTA DE DETALLE
A13: 9 | B13: 2601011010000000 | C13: C | E13: 76078.06 | F13: 0 | G13: 1 | H13: =SUM(E13) -> 76078.06 | I13: 0 | J13: TRASLADO SALDO A CUENTA DE DETALLE
A14: 10 | B14: 2701011010000000 | C14: D | E14: 3273.07 | F14: 0 | G14: 1 | H14: =SUM(E14) -> 3273.07 | I14: 0 | J14: TRASLADO SALDO A CUENTA DE DETALLE
A15: 11 | B15: 2701011010000000 | C15: D | E15: 8535.73 | F15: 0 | G15: 1 | H15: =SUM(E15) -> 8535.73 | I15: 0 | J15: TRASLADO SALDO A CUENTA DE DETALLE
A16: 12 | B16: 2701011010100000 | C16: C | E16: 3273.07 | F16: 0 | G16: 1 | H16: =SUM(E16) -> 3273.07 | I16: 0 | J16: REG. ISR POR RET. A EMPLEADO - OMAR CONTRERAS
... A47: 43 | B47: 5199010030201020 | C47: C | E47: 16465.48 | F47: 0 | G47: 1 | H47: =SUM(E47) -> 16465.48 | I47: 0 | J47: TRASLADO SALDO A CUENTA DE DETALLE

Sheet BG GF
B1: Atlántida Vida, S.A., Seguros de Personas
B2: =+BG!B2 -> Balance General al 30 de septiembre 2026
B3: Valores expresados en dólares de los Estados Unidos de América
A6: ACTIVOS
A7: ACTIVOS DEL GIRO
A8: Caja y Bancos | C8: =+BG!C7 -> 2476649.3
A9: Efectos de cobro inmediato | C9: =+BG!C8 -> 11373.28
A10: Inversiones Financieras | C10: =+BG!C9 -> 6713105.9
A11: Cartera de Préstamos | C11: =+BG!C10 -> 3050380
A12: Primas por Cobrar | C12: =+BG!C11 -> 2909084.7
A13: Deudores por Seguros y Fianzas | C13: =+BG!C12 -> 1527268.4
A14: Total Activos del Giro | D14: =SUM(C8:C13) -> 16687862
A15: OTROS ACTIVOS
A16: Bienes recibidos en pago | C16: =+BG!C15 -> 0
A17: Inversiones Permanentes | C17: =+BG!C16 -> 0
A18: Diversos | C18: =+BG!C17 -> 1441301.2
A19: Total Otros Activos | D19: =SUM(C16:C18) -> 1441301.2
A20: ACTIVO FIJO
A21: Bienes Inmuebles, Muebles y Otros | C21: =+BG!C20 -> 102.36
A22: Total Activos Fijos | D22: =SUM(C21) -> 102.36
A23: TOTAL DE ACTIVOS | D23: =SUM(D14:D22) -> 18129265
A25: PASIVOS
A26: PASIVOS DEL GIRO
A27: Obligaciones con Asegurados | C27: =+BG!C26 -> 119711.82
A28: Obligaciones Financieras | C28: =+BG!C27 -> 0
A29: Sociedades Acreedoras de Seguros y Fianzas | C29: =+BG!C28 -> 1056098.8
A30: Obligaciones con Intermediarios y Agentes | C30: =+BG!C29 -> 668316.1
A31: Reportos y Otras Obligaciones Bursátiles | C31: =+BG!C30 -> 0
A32: Total Pasivos del Giro | D32: =SUM(C27:C31) -> 1844126.7
A33: OTROS PASIVOS
A34: Cuentas por pagar | C34: =+BG!C33 -> 739225.73
A35: Provisiones | C35: =+BG!C34 -> 125858.11
A36: Diversos | C36: =+BG!C35 -> 0
A37: Total Otros Pasivos | D37: =SUM(C34:C36) -> 865083.84
A38: RESERVAS TÉCNICAS
A39: Reservas Matemáticas | C39: =+BG!C38 -> 32011.25
A40: Reservas de Riesgo en Curso | C40: =+BG!C39 -> 2925280.3
A41: Total Reservas Técnicas | D41: =SUM(C40) -> 2925280.3
A42: RESERVAS POR SINIESTROS
A43: Reportados | C43: =+BG!C42 -> 1390610.3
...

Sheet ER GF
C2: Atlántida Vida, S.A., Seguros de Personas
C3: =+ER!D3 -> Estado de Resultados del 1 de enero al 30 de septiembre 2026
C4: Valores expresados en dólares de los Estados Unidos de América
B8: INGRESOS POR OPERACIONES DE SEGUROS
C9: PRIMAS NETAS DE DEVOLUCIONES Y CANCELACIONES | D9: =+ER!E9 -> 7159045.6
C10: INGRESO POR DECREMENTO DE RESERVAS TÉCNICAS | D10: =+ER!E10 -> 9670890.8
C11: SINIESTROS Y GASTOS RECUPERADOS POR REASEGUROS Y REAFIANZAMIENTOS CEDIDOS | D11: =+ER!E11 -> 1187337.7
C12: REEMBOLSOS DE GASTOS POR CESIONES | D12: =+ER!E12 -> 1293589.1
C13: INGRESOS FINANCIEROS Y DE INVERSIONES | D13: =+ER!E13 -> 566679.03
B14: TOTAL INGRESOS POR OPERACIONES DE SEGUROS | D14: =SUM(D9:D13) -> 19877542
B16: COSTOS DE OPERACIONES
C17: SINIESTROS | D17: =+ER!E17 -> 7572792.3
C18: PRIMAS CEDIDAS POR REASEGUROS Y REAFIANZAMIENTOS | D18: =+ER!E18 -> 1859978.4
C19: GASTO POR INCREMENTO DE RESERVAS TÉCNICAS | D19: =+ER!E19 -> 9748520.3
C20: GASTOS DE ADQUISICIÓN Y CONSERVACIÓN | D20: =+ER!E20 -> 1933592.6
B21: TOTAL COSTOS DE OPERACIONES | D21: =SUM(D17:D20) -> 21114884
B23: RESERVAS DE SANEAMIENTO | D23: =+ER!E23 -> 310955.22
B25: UTILIDAD (PÉRDIDA) ANTES DE GASTOS | D25: =+D14-D21-D23 -> -1548296.8
B27: GASTOS DE OPERACIÓN
C28: GASTOS FINANCIEROS Y DE INVERSIÓN | D28: =+ER!E28 -> 27628.88
C29: GASTOS DE ADMINISTRACIÓN | D29: =+ER!E29 -> 1719775.5
B30: TOTAL GASTOS DE OPERACIÓN | D30: =SUM(D28:D29) -> 1747404.3
B32: UTILIDAD (PERDIDA) DE OPERACIÓN | D32: =D25-D30 -> -3295701.1
B34: OTROS INGRESOS Y GASTOS -NETO | D34: =+ER!E34 -> 2822034.1
B36: UTILIDAD ANTES DE IMPUESTOS | D36: =D32+D34 -> -473667.01
B38: IMPUESTO SOBRE LA RENTA | D38: =+ER!E38 -> 137858.24
B40: UTILIDAD DEL EJERCICIO | D40: =+D36-D38 -> -611525.25 | E40: =+Balanza!#REF!+Balanza!#REF! -> #REF! | N40: =D40+E40 -> #REF!
C48: Carlos Fidel Torres | D48: Irvin Esau Calderon
C49: Gerente Financiero | D49: Contador General

Sheet ERv3
C1: Atlántida Vida, S.A., Seguros de Personas
C2: Estado de Resultados del 1 de Enero al 30 de Septiembre de 2019
C3: Valores expresados en dólares de los Estados Unidos de América
B7: INGRESOS DE OPERACIÓN
B8: 57 | C8: INGRESOS FINANCIEROS Y DE INVERSION | D8: =+D9+D10+D11 -> 0
B9: 5701 | C9: DEPOSITOS | D9: =IFERROR(VLOOKUP(B9,Balanza!#REF!,11,FALSE)*-1,0) -> 0
B10: 5702 | C10: POR INVERSIONES EN VALORES | D10: =IFERROR(VLOOKUP(B10,Balanza!#REF!,11,FALSE)*-1,0) -> 0
B11: 5706 | C11: DIVERSOS | D11: =IFERROR(VLOOKUP(B11,Balanza!#REF!,11,FALSE)*-1,0) -> 0
B13: TOTAL INGRESOS DE OPERACIÓN | D13: =+D8 -> 0
B15: UTILIDAD BRUTA | D15: =+D13 -> 0
B17: GASTOS DE OPERACIÓN
B18: 47 | C18: GASTOS FINANCIEROS Y DE INVERSION | D18: =+D19 -> 0
B19: 4701 | C19: POR OBLIGACIONES FINANCIERAS Y OTROS PASIVOS | D19: =IFERROR(VLOOKUP(B19,Balanza!#REF!,11,FALSE),0) -> 0
B20: 48 | C20: GASTOS DE ADMINISTRACION | D20: =SUM(D21:D26) -> 0
B21: 4803 | C21: POR SERVICIOS RECIBIDOS DE TERCEROS | D21: =IFERROR(VLOOKUP(B21,Balanza!#REF!,11,FALSE),0) -> 0
B22: 4804 | C22: POR SEGUROS | D22: =IFERROR(VLOOKUP(B22,Balanza!#REF!,11,FALSE),0) -> 0
B23: 4805 | C23: IMPUESTOS Y CONTRIBUCIONES | D23: =IFERROR(VLOOKUP(B23,Balanza!#REF!,11,FALSE),0) -> 0
B24: 4806 | C24: DEPRECIACION | D24: =IFERROR(VLOOKUP(B24,Balanza!#REF!,11,FALSE),0) -> 0
B25: 4808 | C25: AMORTIZACION DE GASTOS | D25: =IFERROR(VLOOKUP(B25,Balanza!#REF!,11,FALSE),0) -> 0
B26: 4809 | C26: GASTOS DIVERSOS | D26: =IFERROR(VLOOKUP(B26,Balanza!#REF!,11,FALSE),0) -> 0
B28: TOTAL GASTOS DE OPERACIÓN | D28: =+D18+D20 -> 0
B30: UTILIDAD DE OPERACIÓN | D30: =+D15-D28 -> 0
B32: OTROS INGRESOS | D32: =+D33 -> 0
B33: 59 | C33: INGRESOS EXTRAORDINARIOS Y DE EJERCICIOS ANTERIORES | D33: =+D34+D35 -> 0
B34: 5901 | C34: EXTRAORDINARIOS | D34: =IFERROR(VLOOKUP(B34,Balanza!#REF!,11,FALSE),0)*-1 -> 0
B35: 5902 | C35: INGRESOS DE EJERCICIOS ANTERIORES | D35: =IFERROR(VLOOKUP(B35,Balanza!#REF!,11,FALSE),0)*-1 -> 0
B37: OTROS GASTOS | D37: =+D38 -> 0
B38: 49 | C38: GASTOS EXTRAORDINARIOS Y DE EJERCICIOS ANTERIORES | D38: =+D39 -> 0
B39: 4902 | C39: GASTOS DE EJERCICIOS ANTERIORES | D39: =IFERROR(VLOOKUP(B39,Balanza!#REF!,11,FALSE),0) -> 0
B41: PÉRDIDA DEL EJERCICIO | D41: =+D30+D32-D37 -> 0
B52: Carlos Marcelo Olano | D52: Carlos Armando Hernández
B53: Gerente General | D53: Contador

Sheet ERvM
C2: Atlántida Vida, S.A., Seguros de Personas
C3: Estado de Resultados del 1 de Junio al 30 de Junio de 2022
C4: Valores expresados en dólares de los Estados Unidos de América
B9: INGRESOS POR OPERACIONES DE SEGUROS
C10: PRIMAS NETAS DE DEVOLUCIONES Y CANCELACIONES | D10: =((Balanza!#REF!*-1)-(Balanza!#REF!))-((Balanza!#REF!*-1)-(Balanza!#REF!)) -> #REF!
C11: INGRESO POR DECREMENTO DE RESERVAS TÉCNICAS | D11: =(Balanza!#REF!*-1)-(Balanza!#REF!*-1) -> #REF!
C12: SINIESTROS Y GASTOS RECUPERADOS POR REASEGUROS Y REAFIANZAMIENTOS CEDIDOS | D12: =(Balanza!#REF!*-1)-(Balanza!#REF!*-1) -> #REF!
C13: REEMBOLSOS DE GASTOS POR CESIONES | D13: =(Balanza!#REF!*-1)-(Balanza!#REF!*-1) -> #REF!
C14: INGRESOS FINANCIEROS Y DE INVERSIONES | D14: =(Balanza!#REF!*-1)-(Balanza!#REF!*-1) -> #REF!
B15: TOTAL INGRESOS POR OPERACIONES DE SEGUROS | D15: =SUM(D10:D14) -> #REF!
B17: COSTOS DE OPERACIONES
C18: SINIESTROS | D18: =(Balanza!#REF!)-(Balanza!#REF!) -> #REF!
C19: PRIMAS CEDIDAS POR REASEGUROS Y REAFIANZAMIENTOS | D19: =(Balanza!#REF!)-(Balanza!#REF!) -> #REF!
C20: GASTO POR INCREMENTO DE RESERVAS TÉCNICAS | D20: =(Balanza!#REF!)-(Balanza!#REF!) -> #REF!
C21: GASTOS DE ADQUISICIÓN Y CONSERVACIÓN | D21: =(Balanza!#REF!)-(Balanza!#REF!) -> #REF!
B22: TOTAL COSTOS DE OPERACIONES | D22: =SUM(D18:D21) -> #REF!
B24: RESERVAS DE SANEAMIENTO | D24: =((Balanza!#REF!)+(Balanza!#REF!)+(Balanza!#REF!)+(Balanza!#REF!))-((Balanza!#REF!)+(Balanza!#REF!)+(Balanza!#REF!)+(Balanza!#REF!)) -> #REF!
B26: UTILIDAD (PÉRDIDA) ANTES DE GASTOS | D26: =+D15-D22-D24 -> #REF!
B28: GASTOS DE OPERACIÓN
C29: GASTOS FINANCIEROS Y DE INVERSIÓN | D29: =((Balanza!#REF!)+(Balanza!#REF!))-((Balanza!#REF!)+(Balanza!#REF!)) -> #REF!
C30: GASTOS DE ADMINISTRACIÓN | D30: =((Balanza!#REF!)-70819.78)-((Balanza!#REF!)-0) -> #REF!
B31: TOTAL GASTOS DE OPERACIÓN | D31: =SUM(D29:D30) -> #REF!
B33: UTILIDAD (PERDIDA) DE OPERACIÓN | D33: =+D26-D31 -> #REF!
B35: OTROS INGRESOS Y GASTOS -NETO | D35: =((Balanza!#REF!*-1)+(Balanza!#REF!*-1)+(Balanza!#REF!*-1)-(Balanza!#REF!))-((Balanza!#REF!*-1)+(Balanza!#REF!*-1)+(Balanza!#REF!*-1)-(Balanza!#REF!)) -> #REF!
B37: UTILIDAD ANTES DE IMPUESTOS | D37: =+D33+D35 -> #REF!
B39: IMPUESTO SOBRE LA RENTA | D39: 70819.78
B41: UTILIDAD DEL EJERCICIO | D41: =+D37-D39 -> #REF! | F41: 185084.55 | G41: =D41-F41 -> #REF!
C47: Carlos Marcelo Olano | D47: Julio Cesar Alvarenga
C48: Gerente General | D48: Contador General

Sheet ERvM2
C2: Atlántida Vida, S.A., Seguros de Personas
C3: Estado de Resultados del 1 al 31 de Enero de 2020
C4: Valores expresados en dólares de los Estados Unidos de América
B9: INGRESOS DE OPERACIÓN
A10: 57 | C10: INGRESOS FINANCIEROS Y DE INVERSION | D10: =+D11+D12+D13 -> 0
A11: 5701 | C11: DEPOSITOS | D11: =((IFERROR(VLOOKUP(A11,Balanza!#REF!,4,FALSE)*-1,0))-(IFERROR(VLOOKUP(A11,Balanza!#REF!,3,FALSE)*-1,0))) -> 0
A12: 5702 | C12: POR INVERSIONES EN VALORES | D12: =((IFERROR(VLOOKUP(A12,Balanza!#REF!,4,FALSE)*-1,0))-(IFERROR(VLOOKUP(A12,Balanza!#REF!,3,FALSE)*-1,0))) -> 0
A13: 5706 | C13: DIVERSOS | D13: =((IFERROR(VLOOKUP(A13,Balanza!#REF!,14,FALSE)*-1,0))-(IFERROR(VLOOKUP(A13,Balanza!#REF!,13,FALSE)*-1,0))) -> 0
B15: TOTAL INGRESOS DE OPERACIÓN | D15: =+D10 -> 0
B17: UTILIDAD BRUTA | D17: =+D15 -> 0
B19: GASTOS DE OPERACIÓN
C20: DE PERSONAL | D20: =+D21+D22 -> 0
A21: 4801050 | C21: CAPACITACION | D21: =((IFERROR(VLOOKUP(A21,Balanza!#REF!,4,FALSE),0))-(IFERROR(VLOOKUP(A21,Balanza!#REF!,3,FALSE),0))) -> 0
A22: 4801080 | C22: OTRAS PRESTACIONES AL PERSONAL | D22: =((IFERROR(VLOOKUP(A22,Balanza!#REF!,4,FALSE),0))-(IFERROR(VLOOKUP(A22,Balanza!#REF!,3,FALSE),0))) -> 0
A23: 47 | C23: GASTOS FINANCIEROS Y DE INVERSION | D23: =+D24 -> 0
A24: 4701 | C24: POR OBLIGACIONES FINANCIERAS Y OTROS PASIVOS | D24: =((IFERROR(VLOOKUP(A24,Balanza!#REF!,4,FALSE),0))-(IFERROR(VLOOKUP(A24,Balanza!#REF!,3,FALSE),0))) -> 0
A25: 48 | C25: GASTOS DE ADMINISTRACION | D25: =SUM(D26:D31) -> 0
A26: 4803 | C26: POR SERVICIOS RECIBIDOS DE TERCEROS | D26: =((IFERROR(VLOOKUP(A26,Balanza!#REF!,4,FALSE),0))-(IFERROR(VLOOKUP(A26,Balanza!#REF!,3,FALSE),0))) -> 0
A27: 4804 | C27: POR SEGUROS | D27: =((IFERROR(VLOOKUP(A27,Balanza!#REF!,4,FALSE),0))-(IFERROR(VLOOKUP(A27,Balanza!#REF!,3,FALSE),0))) -> 0
A28: 4805 | C28: IMPUESTOS Y CONTRIBUCIONES | D28: =((IFERROR(VLOOKUP(A28,Balanza!#REF!,4,FALSE),0))-(IFERROR(VLOOKUP(A28,Balanza!#REF!,3,FALSE),0))) -> 0
A29: 4806 | C29: DEPRECIACION | D29: =((IFERROR(VLOOKUP(A29,Balanza!#REF!,4,FALSE),0))-(IFERROR(VLOOKUP(A29,Balanza!#REF!,3,FALSE),0))) -> 0
A30: 4808 | C30: AMORTIZACION DE GASTOS | D30: =((IFERROR(VLOOKUP(A30,Balanza!#REF!,4,FALSE),0))-(IFERROR(VLOOKUP(A30,Balanza!#REF!,3,FALSE),0))) -> 0
A31: 4809 | C31: GASTOS DIVERSOS | D31: =((IFERROR(VLOOKUP(A31,Balanza!#REF!,4,FALSE),0))-(IFERROR(VLOOKUP(A31,Balanza!#REF!,3,FALSE),0))) -> 0
B33: TOTAL GASTOS DE OPERACIÓN | D33: =+D20+D23+D25 -> 0
B35: PERDIDA DE OPERACIÓN | D35: =+D17-D33 -> 0
B37: OTROS INGRESOS | D37: =+D38+D39 -> 0
A38: 5901 | C38: EXTRAORDINARIOS | D38: =((IFERROR(VLOOKUP(A38,Balanza!#REF!,4,FALSE),0))-(IFERROR(VLOOKUP(A38,Balanza!#REF!,3,FALSE),0))) -> 0
A39: 5902 | C39: INGRESOS EJERCICIOS ANTERIORES | D39: =((IFERROR(VLOOKUP(A39,Balanza!#REF!,4,FALSE),0))-(IFERROR(VLOOKUP(A39,Balanza!#REF!,3,FALSE),0))) -> 0
B41: OTROS GASTOS | D41: =+D42 -> 0
A42: 4902 | C42: GASTOS EXTRAORDINARIOS Y DE EJERCICIOS ANTERIORES | D42: =((IFERROR(VLOOKUP(A42,Balanza!#REF!,4,FALSE),0))-(IFERROR(VLOOKUP(A42,Balanza!#REF!,3,FALSE),0))) -> 0
B45: PÉRDIDA DEL EJERCICIO | D45: =+D35+D37-D41 -> 0
C54: Carlos Marcelo Olano | D54: Julio Cesar Alvarenga
C55: Gerente General | D55: Contador Corporativo
